Workbook

Sheet FW FAB 1-5
B2: FW FAB 1–5 — parts and quantities
B3: Only these five FAB drawings. Quantities are pieces. No component breakdowns.
B5: Pods / data hall | C5: 11 | E5: Pods / Horizon | F5: 33
B6: Data hall is the data-center scope used here. Pipe stock part numbers are not specified.
B8: FAB 1
B9: Assemblies | G9: Per scope | H9: 5 | I9: =H9*$C$5 -> 55 | J9: =H9*$F$5 -> 165
B10: Part number | C10: Part | D10: Material | E10: Size | F10: Cut length | G10: Per FAB | H10: Pod | I10: Data hall | J10: Horizon
B11: WP1 | C11: Weld Part 1 | D11: SS | E11: 1 1/2" | G11: 3 | H11: =$G11*H$9 -> 15 | I11: =$G11*I$9 -> 165 | J11: =$G11*J$9 -> 495
B12: 25220 | C12: 90° elbow | E12: 1 1/2" | G12: 2 | H12: =$G12*H$9 -> 10 | I12: =$G12*I$9 -> 110 | J12: =$G12*J$9 -> 330
B13: 24090 | C13: Bronze valve | D13: Bronze | E13: Not stated | G13: 1 | H13: =$G13*H$9 -> 5 | I13: =$G13*I$9 -> 55 | J13: =$G13*J$9 -> 165
B14: 76575 | C14: Transition coupling | E14: Not stated | G14: 1 | H14: =$G14*H$9 -> 5 | I14: =$G14*I$9 -> 55 | J14: =$G14*J$9 -> 165
B15: 25360 | C15: Reducing tee | E15: 1 1/2" x 1 1/2" x 1/2" | G15: 1 | H15: =$G15*H$9 -> 5 | I15: =$G15*I$9 -> 55 | J15: =$G15*J$9 -> 165
B16: 26025 | C16: IPS reducer | E16: 1 1/2" to 1" | G16: 1 | H16: =$G16*H$9 -> 5 | I16: =$G16*I$9 -> 55 | J16: =$G16*J$9 -> 165
B17: 76585 | C17: IPS-to-CTS transition | D17: Bronze | E17: Not stated | G17: 1 | H17: =$G17*H$9 -> 5 | I17: =$G17*I$9 -> 55 | J17: =$G17*J$9 -> 165
B18: 79045 | C18: Check valve | E18: 1" | G18: 1 | H18: =$G18*H$9 -> 5 | I18: =$G18*I$9 -> 55 | J18: =$G18*J$9 -> 165
B19: 79450 | C19: Female NPT adapter | D19: Bronze | E19: 1" x 1" | G19: 1 | H19: =$G19*H$9 -> 5 | I19: =$G19*I$9 -> 55 | J19: =$G19*J$9 -> 165
B20: Not specified | C20: Pipe cut | D20: CS | E20: 1/2" | F20: 2 3/8" | G20: 1 | H20: =$G20*H$9 -> 5 | I20: =$G20*I$9 -> 55 | J20: =$G20*J$9 -> 165
B21: Not specified | C21: Pipe cut | D21: CS | E21: 1" | F21: 4 1/4" | G21: 1 | H21: =$G21*H$9 -> 5 | I21: =$G21*I$9 -> 55 | J21: =$G21*J$9 -> 165
B22: Not specified | C22: Pipe cut | D22: CS | E22: 1 1/2" | F22: 2' 6 13/16" | G22: 1 | H22: =$G22*H$9 -> 5 | I22: =$G22*I$9 -> 55 | J22: =$G22*J$9 -> 165
B23: Total part pieces (WP1 counted once) | G23: =SUM(G11,G12,G13,G14,G15,G16,G17,G18,G19) -> 12 | H23: =SUM(H11,H12,H13,H14,H15,H16,H17,H18,H19) -> 60 | I23: =SUM(I11,I12,I13,I14,I15,I16,I17,I18,I19) -> 660 | J23: =SUM(J11,J12,J13,J14,J15,J16,J17,J18,J19) -> 1980
B24: Total CS pipe cut pieces | G24: =SUM(G20,G21,G22) -> 3 | H24: =SUM(H20,H21,H22) -> 15 | I24: =SUM(I20,I21,I22) -> 165 | J24: =SUM(J20,J21,J22) -> 495
B27: FAB 2
B28: Assemblies | G28: Per scope | H28: 8 | I28: =H28*$C$5 -> 88 | J28: =H28*$F$5 -> 264
B29: Part number | C29: Part | D29: Material | E29: Size | F29: Cut length | G29: Per FAB | H29: Pod | I29: Data hall | J29: Horizon
B30: WP1 | C30: Weld Part 1 | D30: SS | E30: 1 1/2" | G30: 3 | H30: =$G30*H$28 -> 24 | I30: =$G30*I$28 -> 264 | J30: =$G30*J$28 -> 792
B31: 25220 | C31: 90° elbow | E31: 1 1/2" | G31: 2 | H31: =$G31*H$28 -> 16 | I31: =$G31*I$28 -> 176 | J31: =$G31*J$28 -> 528
B32: 24090 | C32: Bronze valve | D32: Bronze | E32: Not stated | G32: 1 | H32: =$G32*H$28 -> 8 | I32: =$G32*I$28 -> 88 | J32: =$G32*J$28 -> 264
B33: 76575 | C33: Transition coupling | E33: Not stated | G33: 1 | H33: =$G33*H$28 -> 8 | I33: =$G33*I$28 -> 88 | J33: =$G33*J$28 -> 264
B34: 25360 | C34: Reducing tee | E34: 1 1/2" x 1 1/2" x 1/2" | G34: 1 | H34: =$G34*H$28 -> 8 | I34: =$G34*I$28 -> 88 | J34: =$G34*J$28 -> 264
B35: 26025 | C35: IPS reducer | E35: 1 1/2" to 1" | G35: 1 | H35: =$G35*H$28 -> 8 | I35: =$G35*I$28 -> 88 | J35: =$G35*J$28 -> 264
B36: 76585 | C36: IPS-to-CTS transition | D36: Bronze | E36: Not stated | G36: 1 | H36: =$G36*H$28 -> 8 | I36: =$G36*I$28 -> 88 | J36: =$G36*J$28 -> 264
B37: 79045 | C37: Check valve | E37: 1" | G37: 1 | H37: =$G37*H$28 -> 8 | I37: =$G37*I$28 -> 88 | J37: =$G37*J$28 -> 264
B38: 79450 | C38: Female NPT adapter | D38: Bronze | E38: 1" x 1" | G38: 1 | H38: =$G38*H$28 -> 8 | I38: =$G38*I$28 -> 88 | J38: =$G38*J$28 -> 264
B39: Not specified | C39: Pipe cut | D39: CS | E39: 1/2" | F39: 2 3/8" | G39: 1 | H39: =$G39*H$28 -> 8 | I39: =$G39*I$28 -> 88 | J39: =$G39*J$28 -> 264
B40: Not specified | C40: Pipe cut | D40: CS | E40: 1" | F40: 4 1/4" | G40: 1 | H40: =$G40*H$28 -> 8 | I40: =$G40*I$28 -> 88 | J40: =$G40*J$28 -> 264
B41: Not specified | C41: Pipe cut | D41: CS | E41: 1 1/2" | F41: 1' 8 9/16" | G41: 1 | H41: =$G41*H$28 -> 8 | I41: =$G41*I$28 -> 88 | J41: =$G41*J$28 -> 264
B42: Total part pieces (WP1 counted once) | G42: =SUM(G30,G31,G32,G33,G34,G35,G36,G37,G38) -> 12 | H42: =SUM(H30,H31,H32,H33,H34,H35,H36,H37,H38) -> 96 | I42: =SUM(I30,I31,I32,I33,I34,I35,I36,I37,I38) -> 1056 | J42: =SUM(J30,J31,J32,J33,J34,J35,J36,J37,J38) -> 3168
B43: Total CS pipe cut pieces | G43: =SUM(G39,G40,G41) -> 3 | H43: =SUM(H39,H40,H41) -> 24 | I43: =SUM(I39,I40,I41) -> 264 | J43: =SUM(J39,J40,J41) -> 792
B46: FAB 3
B47: Assemblies | G47: Per scope | H47: 1 | I47: =H47*$C$5 -> 11 | J47: =H47*$F$5 -> 33
B48: Part number | C48: Part | D48: Material | E48: Size | F48: Cut length | G48: Per FAB | H48: Pod | I48: Data hall | J48: Horizon
B49: WP1 | C49: Weld Part 1 | D49: SS | E49: 1 1/2" | G49: 3 | H49: =$G49*H$47 -> 3 | I49: =$G49*I$47 -> 33 | J49: =$G49*J$47 -> 99
B50: 25220 | C50: 90° elbow | E50: 1 1/2" | G50: 3 | H50: =$G50*H$47 -> 3 | I50: =$G50*I$47 -> 33 | J50: =$G50*J$47 -> 99
B51: 24090 | C51: Bronze valve | D51: Bronze | E51: Not stated | G51: 1 | H51: =$G51*H$47 -> 1 | I51: =$G51*I$47 -> 11 | J51: =$G51*J$47 -> 33
B52: 76575 | C52: Transition coupling | E52: Not stated | G52: 1 | H52: =$G52*H$47 -> 1 | I52: =$G52*I$47 -> 11 | J52: =$G52*J$47 -> 33
B53: 25360 | C53: Reducing tee | E53: 1 1/2" x 1 1/2" x 1/2" | G53: 1 | H53: =$G53*H$47 -> 1 | I53: =$G53*I$47 -> 11 | J53: =$G53*J$47 -> 33
B54: 26025 | C54: IPS reducer | E54: 1 1/2" to 1" | G54: 1 | H54: =$G54*H$47 -> 1 | I54: =$G54*I$47 -> 11 | J54: =$G54*J$47 -> 33
B55: 76585 | C55: IPS-to-CTS transition | D55: Bronze | E55: Not stated | G55: 1 | H55: =$G55*H$47 -> 1 | I55: =$G55*I$47 -> 11 | J55: =$G55*J$47 -> 33
B56: 79045 | C56: Check valve | E56: 1" | G56: 1 | H56: =$G56*H$47 -> 1 | I56: =$G56*I$47 -> 11 | J56: =$G56*J$47 -> 33
B57: 79450 | C57: Female NPT adapter | D57: Bronze | E57: 1" x 1" | G57: 1 | H57: =$G57*H$47 -> 1 | I57: =$G57*I$47 -> 11 | J57: =$G57*J$47 -> 33
B58: Not specified | C58: Pipe cut | D58: CS | E58: 1/2" | F58: 2 3/8" | G58: 1 | H58: =$G58*H$47 -> 1 | I58: =$G58*I$47 -> 11 | J58: =$G58*J$47 -> 33
B59: Not specified | C59: Pipe cut | D59: CS | E59: 1" | F59: 4 1/4" | G59: 1 | H59: =$G59*H$47 -> 1 | I59: =$G59*I$47 -> 11 | J59: =$G59*J$47 -> 33
B60: Not specified | C60: Pipe cut | D60: CS | E60: 1 1/2" | F60: 8" | G60: 1 | H60: =$G60*H$47 -> 1 | I60: =$G60*I$47 -> 11 | J60: =$G60*J$47 -> 33
B61: Not specified | C61: Pipe cut | D61: CS | E61: 1 1/2" | F61: 2' 6 13/16" | G61: 1 | H61: =$G61*H$47 -> 1 | I61: =$G61*I$47 -> 11 | J61: =$G61*J$47 -> 33
B62: Total part pieces (WP1 counted once) | G62: =SUM(G49,G50,G51,G52,G53,G54,G55,G56,G57) -> 13 | H62: =SUM(H49,H50,H51,H52,H53,H54,H55,H56,H57) -> 13 | I62: =SUM(I49,I50,I51,I52,I53,I54,I55,I56,I57) -> 143 | J62: =SUM(J49,J50,J51,J52,J53,J54,J55,J56,J57) -> 429
B63: Total CS pipe cut pieces | G63: =SUM(G58,G59,G60,G61) -> 4 | H63: =SUM(H58,H59,H60,H61) -> 4 | I63: =SUM(I58,I59,I60,I61) -> 44 | J63: =SUM(J58,J59,J60,J61) -> 132
B66: FAB 4
B67: Assemblies | G67: Per scope | H67: 13 | I67: =H67*$C$5 -> 143 | J67: =H67*$F$5 -> 429
B68: Part number | C68: Part | D68: Material | E68: Size | F68: Cut length | G68: Per FAB | H68: Pod | I68: Data hall | J68: Horizon
B69: WP1 | C69: Weld Part 1 | D69: SS | E69: 1 1/2" | G69: 2 | H69: =$G69*H$67 -> 26 | I69: =$G69*I$67 -> 286 | J69: =$G69*J$67 -> 858
B70: 25220 | C70: 90° elbow | E70: 1 1/2" | G70: 1 | H70: =$G70*H$67 -> 13 | I70: =$G70*I$67 -> 143 | J70: =$G70*J$67 -> 429
B71: 24090 | C71: Bronze valve | D71: Bronze | E71: Not stated | G71: 1 | H71: =$G71*H$67 -> 13 | I71: =$G71*I$67 -> 143 | J71: =$G71*J$67 -> 429
B72: 76575 | C72: Transition coupling | E72: Not stated | G72: 1 | H72: =$G72*H$67 -> 13 | I72: =$G72*I$67 -> 143 | J72: =$G72*J$67 -> 429
B73: 25360 | C73: Reducing tee | E73: 1 1/2" x 1 1/2" x 1/2" | G73: 1 | H73: =$G73*H$67 -> 13 | I73: =$G73*I$67 -> 143 | J73: =$G73*J$67 -> 429
B74: 26100 | C74: 45° street elbow | E74: 1/2" | G74: 1 | H74: =$G74*H$67 -> 13 | I74: =$G74*I$67 -> 143 | J74: =$G74*J$67 -> 429
B75: Not specified | C75: Pipe cut | D75: CS | E75: 1/2" | F75: 2 3/8" | G75: 1 | H75: =$G75*H$67 -> 13 | I75: =$G75*I$67 -> 143 | J75: =$G75*J$67 -> 429
B76: Not specified | C76: Pipe cut | D76: CS | E76: 1 1/2" | F76: 4 1/4" | G76: 1 | H76: =$G76*H$67 -> 13 | I76: =$G76*I$67 -> 143 | J76: =$G76*J$67 -> 429
B77: Total part pieces (WP1 counted once) | G77: =SUM(G69,G70,G71,G72,G73,G74) -> 7 | H77: =SUM(H69,H70,H71,H72,H73,H74) -> 91 | I77: =SUM(I69,I70,I71,I72,I73,I74) -> 1001 | J77: =SUM(J69,J70,J71,J72,J73,J74) -> 3003
B78: Total CS pipe cut pieces | G78: =SUM(G75,G76) -> 2 | H78: =SUM(H75,H76) -> 26 | I78: =SUM(I75,I76) -> 286 | J78: =SUM(J75,J76) -> 858
B81: FAB 5
B82: Assemblies | G82: Per scope | H82: 1 | I82: =H82*$C$5 -> 11 | J82: =H82*$F$5 -> 33
B83: Part number | C83: Part | D83: Material | E83: Size | F83: Cut length | G83: Per FAB | H83: Pod | I83: Data hall | J83: Horizon
B84: WP1 | C84: Weld Part 1 | D84: SS | E84: 1 1/2" | G84: 2 | H84: =$G84*H$82 -> 2 | I84: =$G84*I$82 -> 22 | J84: =$G84*J$82 -> 66
B85: 25220 | C85: 90° elbow | E85: 1 1/2" | G85: 2 | H85: =$G85*H$82 -> 2 | I85: =$G85*I$82 -> 22 | J85: =$G85*J$82 -> 66
B86: 24090 | C86: Bronze valve | D86: Bronze | E86: Not stated | G86: 1 | H86: =$G86*H$82 -> 1 | I86: =$G86*I$82 -> 11 | J86: =$G86*J$82 -> 33
B87: 76575 | C87: Transition coupling | E87: Not stated | G87: 1 | H87: =$G87*H$82 -> 1 | I87: =$G87*I$82 -> 11 | J87: =$G87*J$82 -> 33
B88: 25360 | C88: Reducing tee | E88: 1 1/2" x 1 1/2" x 1/2" | G88: 1 | H88: =$G88*H$82 -> 1 | I88: =$G88*I$82 -> 11 | J88: =$G88*J$82 -> 33
B89: 26100 | C89: 45° street elbow | E89: 1/2" | G89: 1 | H89: =$G89*H$82 -> 1 | I89: =$G89*I$82 -> 11 | J89: =$G89*J$82 -> 33
B90: Not specified | C90: Pipe cut | D90: CS | E90: 1/2" | F90: 2 3/8" | G90: 1 | H90: =$G90*H$82 -> 1 | I90: =$G90*I$82 -> 11 | J90: =$G90*J$82 -> 33
B91: Not specified | C91: Pipe cut | D91: CS | E91: 1 1/2" | F91: 4 1/4" | G91: 1 | H91: =$G91*H$82 -> 1 | I91: =$G91*I$82 -> 11 | J91: =$G91*J$82 -> 33
B92: Not specified | C92: Pipe cut | D92: CS | E92: 1 1/2" | F92: 1' 1" | G92: 1 | H92: =$G92*H$82 -> 1 | I92: =$G92*I$82 -> 11 | J92: =$G92*J$82 -> 33
B93: Total part pieces (WP1 counted once) | G93: =SUM(G84,G85,G86,G87,G88,G89) -> 8 | H93: =SUM(H84,H85,H86,H87,H88,H89) -> 8 | I93: =SUM(I84,I85,I86,I87,I88,I89) -> 88 | J93: =SUM(J84,J85,J86,J87,J88,J89) -> 264
B94: Total CS pipe cut pieces | G94: =SUM(G90,G91,G92) -> 3 | H94: =SUM(H90,H91,H92) -> 3 | I94: =SUM(I90,I91,I92) -> 33 | J94: =SUM(J90,J91,J92) -> 99
B97: Combined totals — all five FAB drawings
B98: Part number | C98: Part | D98: Material | E98: Size | F98: Cut length | H98: Pod | I98: Data hall | J98: Horizon
B99: WP1 | C99: Weld Part 1 | D99: SS | E99: 1 1/2" | H99: =SUM(H11,H30,H49,H69,H84) -> 70 | I99: =SUM(I11,I30,I49,I69,I84) -> 770 | J99: =SUM(J11,J30,J49,J69,J84) -> 2310
B100: 25220 | C100: 90° elbow | E100: 1 1/2" | H100: =SUM(H12,H31,H50,H70,H85) -> 44 | I100: =SUM(I12,I31,I50,I70,I85) -> 484 | J100: =SUM(J12,J31,J50,J70,J85) -> 1452
B101: 24090 | C101: Bronze valve | D101: Bronze | E101: Not stated | H101: =SUM(H13,H32,H51,H71,H86) -> 28 | I101: =SUM(I13,I32,I51,I71,I86) -> 308 | J101: =SUM(J13,J32,J51,J71,J86) -> 924
B102: 76575 | C102: Transition coupling | E102: Not stated | H102: =SUM(H14,H33,H52,H72,H87) -> 28 | I102: =SUM(I14,I33,I52,I72,I87) -> 308 | J102: =SUM(J14,J33,J52,J72,J87) -> 924
B103: 25360 | C103: Reducing tee | E103: 1 1/2" x 1 1/2" x 1/2" | H103: =SUM(H15,H34,H53,H73,H88) -> 28 | I103: =SUM(I15,I34,I53,I73,I88) -> 308 | J103: =SUM(J15,J34,J53,J73,J88) -> 924
B104: 26025 | C104: IPS reducer | E104: 1 1/2" to 1" | H104: =SUM(H16,H35,H54) -> 14 | I104: =SUM(I16,I35,I54) -> 154 | J104: =SUM(J16,J35,J54) -> 462
B105: 76585 | C105: IPS-to-CTS transition | D105: Bronze | E105: Not stated | H105: =SUM(H17,H36,H55) -> 14 | I105: =SUM(I17,I36,I55) -> 154 | J105: =SUM(J17,J36,J55) -> 462
B106: 79045 | C106: Check valve | E106: 1" | H106: =SUM(H18,H37,H56) -> 14 | I106: =SUM(I18,I37,I56) -> 154 | J106: =SUM(J18,J37,J56) -> 462
B107: 79450 | C107: Female NPT adapter | D107: Bronze | E107: 1" x 1" | H107: =SUM(H19,H38,H57) -> 14 | I107: =SUM(I19,I38,I57) -> 154 | J107: =SUM(J19,J38,J57) -> 462
B108: 26100 | C108: 45° street elbow | E108: 1/2" | H108: =SUM(H74,H89) -> 14 | I108: =SUM(I74,I89) -> 154 | J108: =SUM(J74,J89) -> 462
B109: TOTAL PART PIECES | H109: =SUM(H99,H100,H101,H102,H103,H104,H105,H106,H107,H108) -> 268 | I109: =SUM(I99,I100,I101,I102,I103,I104,I105,I106,I107,I108) -> 2948 | J109: =SUM(J99,J100,J101,J102,J103,J104,J105,J106,J107,J108) -> 8844
B110: WP1 is counted as one fabricated part. Its adapter and SS cut are not added again.
B112: Part number | C112: Part | D112: Material | E112: Size | F112: Cut length | H112: Pod | I112: Data hall | J112: Horizon
B113: Not specified | C113: Pipe cut | D113: CS | E113: 1/2" | F113: 2 3/8" | H113: =SUM(H20,H39,H58,H75,H90) -> 28 | I113: =SUM(I20,I39,I58,I75,I90) -> 308 | J113: =SUM(J20,J39,J58,J75,J90) -> 924
B114: Not specified | C114: Pipe cut | D114: CS | E114: 1" | F114: 4 1/4" | H114: =SUM(H21,H40,H59) -> 14 | I114: =SUM(I21,I40,I59) -> 154 | J114: =SUM(J21,J40,J59) -> 462
...

Sheet TW Supply and Return
B2: TW Supply and Return — final takeoff
B3: Edit yellow cells on Edit Inputs. Quantities and weld-part materials update automatically.
B4: WP2 uses assembly-layout quantities. The detail-sheet quantity conflict remains noted on Edit Inputs.
B6: Supply drawing
B7: Assemblies | H7: =IF(ISNUMBER('Edit Inputs'!C6),'Edit Inputs'!C6,"Input needed") -> 8 | I7: =IF(ISNUMBER('Edit Inputs'!D6),'Edit Inputs'!D6,"Input needed") -> 88 | J7: =IF(ISNUMBER('Edit Inputs'!E6),'Edit Inputs'!E6,"Input needed") -> 264
B8: Part number | C8: Part | D8: Material | E8: Size | F8: Cut length | G8: Per drawing | H8: Pod | I8: Data hall | J8: Horizon
B9: ='Edit Inputs'!B12 -> WP2 | C9: ='Edit Inputs'!C12 -> Weld Part 2 | D9: ='Edit Inputs'!D12 -> SS | E9: ='Edit Inputs'!E12 -> 2" | G9: =IF(ISNUMBER('Edit Inputs'!F12),'Edit Inputs'!F12,"Input needed") -> 1 | H9: =IF(COUNT($G9,H$7)=2,$G9*H$7,"Input needed") -> 8 | I9: =IF(COUNT($G9,I$7)=2,$G9*I$7,"Input needed") -> 88 | J9: =IF(COUNT($G9,J$7)=2,$G9*J$7,"Input needed") -> 264
B10: ='Edit Inputs'!B13 -> WP3 | C10: ='Edit Inputs'!C13 -> Weld Part 3 | D10: ='Edit Inputs'!D13 -> SS | E10: ='Edit Inputs'!E13 -> 2" | G10: =IF(ISNUMBER('Edit Inputs'!F13),'Edit Inputs'!F13,"Input needed") -> 1 | H10: =IF(COUNT($G10,H$7)=2,$G10*H$7,"Input needed") -> 8 | I10: =IF(COUNT($G10,I$7)=2,$G10*I$7,"Input needed") -> 88 | J10: =IF(COUNT($G10,J$7)=2,$G10*J$7,"Input needed") -> 264
B11: ='Edit Inputs'!B14 -> WP4 | C11: ='Edit Inputs'!C14 -> Weld Part 4 | D11: ='Edit Inputs'!D14 -> SS | E11: ='Edit Inputs'!E14 -> 2" | G11: =IF(ISNUMBER('Edit Inputs'!F14),'Edit Inputs'!F14,"Input needed") -> 0 | H11: =IF(COUNT($G11,H$7)=2,$G11*H$7,"Input needed") -> 0 | I11: =IF(COUNT($G11,I$7)=2,$G11*I$7,"Input needed") -> 0 | J11: =IF(COUNT($G11,J$7)=2,$G11*J$7,"Input needed") -> 0
B12: ='Edit Inputs'!B15 -> 80425 | C12: ='Edit Inputs'!C15 -> 90° elbow | D12: ='Edit Inputs'!D15 -> SS | E12: ='Edit Inputs'!E15 -> 2" | G12: =IF(ISNUMBER('Edit Inputs'!F15),'Edit Inputs'!F15,"Input needed") -> 1 | H12: =IF(COUNT($G12,H$7)=2,$G12*H$7,"Input needed") -> 8 | I12: =IF(COUNT($G12,I$7)=2,$G12*I$7,"Input needed") -> 88 | J12: =IF(COUNT($G12,J$7)=2,$G12*J$7,"Input needed") -> 264
B13: ='Edit Inputs'!B16 -> 80930 | C13: ='Edit Inputs'!C16 -> Threaded-branch tee | D13: ='Edit Inputs'!D16 -> SS | E13: ='Edit Inputs'!E16 -> 2" x 2" x 3/4" FPT | G13: =IF(ISNUMBER('Edit Inputs'!F16),'Edit Inputs'!F16,"Input needed") -> 1 | H13: =IF(COUNT($G13,H$7)=2,$G13*H$7,"Input needed") -> 8 | I13: =IF(COUNT($G13,I$7)=2,$G13*I$7,"Input needed") -> 88 | J13: =IF(COUNT($G13,J$7)=2,$G13*J$7,"Input needed") -> 264
B14: ='Edit Inputs'!B17 -> Custom — no PN | C14: ='Edit Inputs'!C17 -> Reducing bushing | D14: ='Edit Inputs'!D17 -> Not stated | E14: ='Edit Inputs'!E17 -> 3/4" MPT x 1/2" FPT | G14: =IF(ISNUMBER('Edit Inputs'!F17),'Edit Inputs'!F17,"Input needed") -> 1 | H14: =IF(COUNT($G14,H$7)=2,$G14*H$7,"Input needed") -> 8 | I14: =IF(COUNT($G14,I$7)=2,$G14*I$7,"Input needed") -> 88 | J14: =IF(COUNT($G14,J$7)=2,$G14*J$7,"Input needed") -> 264
B15: ='Edit Inputs'!B18 -> 80720 | C15: ='Edit Inputs'!C18 -> Reducing tee | D15: ='Edit Inputs'!D18 -> SS | E15: ='Edit Inputs'!E18 -> 2" x 2" x 1/2" | G15: =IF(ISNUMBER('Edit Inputs'!F18),'Edit Inputs'!F18,"Input needed") -> 1 | H15: =IF(COUNT($G15,H$7)=2,$G15*H$7,"Input needed") -> 8 | I15: =IF(COUNT($G15,I$7)=2,$G15*I$7,"Input needed") -> 88 | J15: =IF(COUNT($G15,J$7)=2,$G15*J$7,"Input needed") -> 264
B16: ='Edit Inputs'!B19 -> 81081 | C16: ='Edit Inputs'!C19 -> Ball valve | D16: ='Edit Inputs'!D19 -> SS | E16: ='Edit Inputs'!E19 -> 1/2" | G16: =IF(ISNUMBER('Edit Inputs'!F19),'Edit Inputs'!F19,"Input needed") -> 1 | H16: =IF(COUNT($G16,H$7)=2,$G16*H$7,"Input needed") -> 8 | I16: =IF(COUNT($G16,I$7)=2,$G16*I$7,"Input needed") -> 88 | J16: =IF(COUNT($G16,J$7)=2,$G16*J$7,"Input needed") -> 264
B17: ='Edit Inputs'!B20 -> 80580 | C17: ='Edit Inputs'!C20 -> Press tee | D17: ='Edit Inputs'!D20 -> SS | E17: ='Edit Inputs'!E20 -> 1/2" | G17: =IF(ISNUMBER('Edit Inputs'!F20),'Edit Inputs'!F20,"Input needed") -> 1 | H17: =IF(COUNT($G17,H$7)=2,$G17*H$7,"Input needed") -> 8 | I17: =IF(COUNT($G17,I$7)=2,$G17*I$7,"Input needed") -> 88 | J17: =IF(COUNT($G17,J$7)=2,$G17*J$7,"Input needed") -> 264
B18: ='Edit Inputs'!B21 -> 79430 | C18: ='Edit Inputs'!C21 -> Bronze instrument adapter — uncut | D18: ='Edit Inputs'!D21 -> Bronze | E18: ='Edit Inputs'!E21 -> 1/2" | G18: =IF(ISNUMBER('Edit Inputs'!F21),'Edit Inputs'!F21,"Input needed") -> 2 | H18: =IF(COUNT($G18,H$7)=2,$G18*H$7,"Input needed") -> 16 | I18: =IF(COUNT($G18,I$7)=2,$G18*I$7,"Input needed") -> 176 | J18: =IF(COUNT($G18,J$7)=2,$G18*J$7,"Input needed") -> 528
B19: TOTAL PART PIECES | G19: =IF(COUNT(G9,G10,G11,G12,G13,G14,G15,G16,G17,G18)=10,SUM(G9,G10,G11,G12,G13,G14,G15,G16,G17,G18),"Input needed") -> 10 | H19: =IF(COUNT(H9,H10,H11,H12,H13,H14,H15,H16,H17,H18)=10,SUM(H9,H10,H11,H12,H13,H14,H15,H16,H17,H18),"Input needed") -> 80 | I19: =IF(COUNT(I9,I10,I11,I12,I13,I14,I15,I16,I17,I18)=10,SUM(I9,I10,I11,I12,I13,I14,I15,I16,I17,I18),"Input needed") -> 880 | J19: =IF(COUNT(J9,J10,J11,J12,J13,J14,J15,J16,J17,J18)=10,SUM(J9,J10,J11,J12,J13,J14,J15,J16,J17,J18),"Input needed") -> 2640
B20: Weld parts count as one part each. Tube cuts are listed below.
B23: Return drawing
B24: Assemblies | H24: =IF(ISNUMBER('Edit Inputs'!C7),'Edit Inputs'!C7,"Input needed") -> 8 | I24: =IF(ISNUMBER('Edit Inputs'!D7),'Edit Inputs'!D7,"Input needed") -> 88 | J24: =IF(ISNUMBER('Edit Inputs'!E7),'Edit Inputs'!E7,"Input needed") -> 264
B25: Part number | C25: Part | D25: Material | E25: Size | F25: Cut length | G25: Per drawing | H25: Pod | I25: Data hall | J25: Horizon
B26: ='Edit Inputs'!B12 -> WP2 | C26: ='Edit Inputs'!C12 -> Weld Part 2 | D26: ='Edit Inputs'!D12 -> SS | E26: ='Edit Inputs'!E12 -> 2" | G26: =IF(ISNUMBER('Edit Inputs'!G12),'Edit Inputs'!G12,"Input needed") -> 2 | H26: =IF(COUNT($G26,H$24)=2,$G26*H$24,"Input needed") -> 16 | I26: =IF(COUNT($G26,I$24)=2,$G26*I$24,"Input needed") -> 176 | J26: =IF(COUNT($G26,J$24)=2,$G26*J$24,"Input needed") -> 528
B27: ='Edit Inputs'!B13 -> WP3 | C27: ='Edit Inputs'!C13 -> Weld Part 3 | D27: ='Edit Inputs'!D13 -> SS | E27: ='Edit Inputs'!E13 -> 2" | G27: =IF(ISNUMBER('Edit Inputs'!G13),'Edit Inputs'!G13,"Input needed") -> 1 | H27: =IF(COUNT($G27,H$24)=2,$G27*H$24,"Input needed") -> 8 | I27: =IF(COUNT($G27,I$24)=2,$G27*I$24,"Input needed") -> 88 | J27: =IF(COUNT($G27,J$24)=2,$G27*J$24,"Input needed") -> 264
B28: ='Edit Inputs'!B14 -> WP4 | C28: ='Edit Inputs'!C14 -> Weld Part 4 | D28: ='Edit Inputs'!D14 -> SS | E28: ='Edit Inputs'!E14 -> 2" | G28: =IF(ISNUMBER('Edit Inputs'!G14),'Edit Inputs'!G14,"Input needed") -> 1 | H28: =IF(COUNT($G28,H$24)=2,$G28*H$24,"Input needed") -> 8 | I28: =IF(COUNT($G28,I$24)=2,$G28*I$24,"Input needed") -> 88 | J28: =IF(COUNT($G28,J$24)=2,$G28*J$24,"Input needed") -> 264
B29: ='Edit Inputs'!B15 -> 80425 | C29: ='Edit Inputs'!C15 -> 90° elbow | D29: ='Edit Inputs'!D15 -> SS | E29: ='Edit Inputs'!E15 -> 2" | G29: =IF(ISNUMBER('Edit Inputs'!G15),'Edit Inputs'!G15,"Input needed") -> 1 | H29: =IF(COUNT($G29,H$24)=2,$G29*H$24,"Input needed") -> 8 | I29: =IF(COUNT($G29,I$24)=2,$G29*I$24,"Input needed") -> 88 | J29: =IF(COUNT($G29,J$24)=2,$G29*J$24,"Input needed") -> 264
B30: ='Edit Inputs'!B16 -> 80930 | C30: ='Edit Inputs'!C16 -> Threaded-branch tee | D30: ='Edit Inputs'!D16 -> SS | E30: ='Edit Inputs'!E16 -> 2" x 2" x 3/4" FPT | G30: =IF(ISNUMBER('Edit Inputs'!G16),'Edit Inputs'!G16,"Input needed") -> 0 | H30: =IF(COUNT($G30,H$24)=2,$G30*H$24,"Input needed") -> 0 | I30: =IF(COUNT($G30,I$24)=2,$G30*I$24,"Input needed") -> 0 | J30: =IF(COUNT($G30,J$24)=2,$G30*J$24,"Input needed") -> 0
B31: ='Edit Inputs'!B17 -> Custom — no PN | C31: ='Edit Inputs'!C17 -> Reducing bushing | D31: ='Edit Inputs'!D17 -> Not stated | E31: ='Edit Inputs'!E17 -> 3/4" MPT x 1/2" FPT | G31: =IF(ISNUMBER('Edit Inputs'!G17),'Edit Inputs'!G17,"Input needed") -> 0 | H31: =IF(COUNT($G31,H$24)=2,$G31*H$24,"Input needed") -> 0 | I31: =IF(COUNT($G31,I$24)=2,$G31*I$24,"Input needed") -> 0 | J31: =IF(COUNT($G31,J$24)=2,$G31*J$24,"Input needed") -> 0
B32: ='Edit Inputs'!B18 -> 80720 | C32: ='Edit Inputs'!C18 -> Reducing tee | D32: ='Edit Inputs'!D18 -> SS | E32: ='Edit Inputs'!E18 -> 2" x 2" x 1/2" | G32: =IF(ISNUMBER('Edit Inputs'!G18),'Edit Inputs'!G18,"Input needed") -> 2 | H32: =IF(COUNT($G32,H$24)=2,$G32*H$24,"Input needed") -> 16 | I32: =IF(COUNT($G32,I$24)=2,$G32*I$24,"Input needed") -> 176 | J32: =IF(COUNT($G32,J$24)=2,$G32*J$24,"Input needed") -> 528
B33: ='Edit Inputs'!B19 -> 81081 | C33: ='Edit Inputs'!C19 -> Ball valve | D33: ='Edit Inputs'!D19 -> SS | E33: ='Edit Inputs'!E19 -> 1/2" | G33: =IF(ISNUMBER('Edit Inputs'!G19),'Edit Inputs'!G19,"Input needed") -> 1 | H33: =IF(COUNT($G33,H$24)=2,$G33*H$24,"Input needed") -> 8 | I33: =IF(COUNT($G33,I$24)=2,$G33*I$24,"Input needed") -> 88 | J33: =IF(COUNT($G33,J$24)=2,$G33*J$24,"Input needed") -> 264
B34: ='Edit Inputs'!B20 -> 80580 | C34: ='Edit Inputs'!C20 -> Press tee | D34: ='Edit Inputs'!D20 -> SS | E34: ='Edit Inputs'!E20 -> 1/2" | G34: =IF(ISNUMBER('Edit Inputs'!G20),'Edit Inputs'!G20,"Input needed") -> 1 | H34: =IF(COUNT($G34,H$24)=2,$G34*H$24,"Input needed") -> 8 | I34: =IF(COUNT($G34,I$24)=2,$G34*I$24,"Input needed") -> 88 | J34: =IF(COUNT($G34,J$24)=2,$G34*J$24,"Input needed") -> 264
B35: ='Edit Inputs'!B21 -> 79430 | C35: ='Edit Inputs'!C21 -> Bronze instrument adapter — uncut | D35: ='Edit Inputs'!D21 -> Bronze | E35: ='Edit Inputs'!E21 -> 1/2" | G35: =IF(ISNUMBER('Edit Inputs'!G21),'Edit Inputs'!G21,"Input needed") -> 3 | H35: =IF(COUNT($G35,H$24)=2,$G35*H$24,"Input needed") -> 24 | I35: =IF(COUNT($G35,I$24)=2,$G35*I$24,"Input needed") -> 264 | J35: =IF(COUNT($G35,J$24)=2,$G35*J$24,"Input needed") -> 792
B36: TOTAL PART PIECES | G36: =IF(COUNT(G26,G27,G28,G29,G30,G31,G32,G33,G34,G35)=10,SUM(G26,G27,G28,G29,G30,G31,G32,G33,G34,G35),"Input needed") -> 12 | H36: =IF(COUNT(H26,H27,H28,H29,H30,H31,H32,H33,H34,H35)=10,SUM(H26,H27,H28,H29,H30,H31,H32,H33,H34,H35),"Input needed") -> 96 | I36: =IF(COUNT(I26,I27,I28,I29,I30,I31,I32,I33,I34,I35)=10,SUM(I26,I27,I28,I29,I30,I31,I32,I33,I34,I35),"Input needed") -> 1056 | J36: =IF(COUNT(J26,J27,J28,J29,J30,J31,J32,J33,J34,J35)=10,SUM(J26,J27,J28,J29,J30,J31,J32,J33,J34,J35),"Input needed") -> 3168
B37: Weld parts count as one part each. Tube cuts are listed below.
B40: Combined parts — Supply + Return
B41: Part number | C41: Part | D41: Material | E41: Size | H41: Pod | I41: Data hall | J41: Horizon
B42: ='Edit Inputs'!B12 -> WP2 | C42: ='Edit Inputs'!C12 -> Weld Part 2 | D42: ='Edit Inputs'!D12 -> SS | E42: ='Edit Inputs'!E12 -> 2" | H42: =IF(COUNT(H9,H26)=2,SUM(H9,H26),"Input needed") -> 24 | I42: =IF(COUNT(I9,I26)=2,SUM(I9,I26),"Input needed") -> 264 | J42: =IF(COUNT(J9,J26)=2,SUM(J9,J26),"Input needed") -> 792
B43: ='Edit Inputs'!B13 -> WP3 | C43: ='Edit Inputs'!C13 -> Weld Part 3 | D43: ='Edit Inputs'!D13 -> SS | E43: ='Edit Inputs'!E13 -> 2" | H43: =IF(COUNT(H10,H27)=2,SUM(H10,H27),"Input needed") -> 16 | I43: =IF(COUNT(I10,I27)=2,SUM(I10,I27),"Input needed") -> 176 | J43: =IF(COUNT(J10,J27)=2,SUM(J10,J27),"Input needed") -> 528
B44: ='Edit Inputs'!B14 -> WP4 | C44: ='Edit Inputs'!C14 -> Weld Part 4 | D44: ='Edit Inputs'!D14 -> SS | E44: ='Edit Inputs'!E14 -> 2" | H44: =IF(COUNT(H11,H28)=2,SUM(H11,H28),"Input needed") -> 8 | I44: =IF(COUNT(I11,I28)=2,SUM(I11,I28),"Input needed") -> 88 | J44: =IF(COUNT(J11,J28)=2,SUM(J11,J28),"Input needed") -> 264
B45: ='Edit Inputs'!B15 -> 80425 | C45: ='Edit Inputs'!C15 -> 90° elbow | D45: ='Edit Inputs'!D15 -> SS | E45: ='Edit Inputs'!E15 -> 2" | H45: =IF(COUNT(H12,H29)=2,SUM(H12,H29),"Input needed") -> 16 | I45: =IF(COUNT(I12,I29)=2,SUM(I12,I29),"Input needed") -> 176 | J45: =IF(COUNT(J12,J29)=2,SUM(J12,J29),"Input needed") -> 528
B46: ='Edit Inputs'!B16 -> 80930 | C46: ='Edit Inputs'!C16 -> Threaded-branch tee | D46: ='Edit Inputs'!D16 -> SS | E46: ='Edit Inputs'!E16 -> 2" x 2" x 3/4" FPT | H46: =IF(COUNT(H13,H30)=2,SUM(H13,H30),"Input needed") -> 8 | I46: =IF(COUNT(I13,I30)=2,SUM(I13,I30),"Input needed") -> 88 | J46: =IF(COUNT(J13,J30)=2,SUM(J13,J30),"Input needed") -> 264
B47: ='Edit Inputs'!B17 -> Custom — no PN | C47: ='Edit Inputs'!C17 -> Reducing bushing | D47: ='Edit Inputs'!D17 -> Not stated | E47: ='Edit Inputs'!E17 -> 3/4" MPT x 1/2" FPT | H47: =IF(COUNT(H14,H31)=2,SUM(H14,H31),"Input needed") -> 8 | I47: =IF(COUNT(I14,I31)=2,SUM(I14,I31),"Input needed") -> 88 | J47: =IF(COUNT(J14,J31)=2,SUM(J14,J31),"Input needed") -> 264
B48: ='Edit Inputs'!B18 -> 80720 | C48: ='Edit Inputs'!C18 -> Reducing tee | D48: ='Edit Inputs'!D18 -> SS | E48: ='Edit Inputs'!E18 -> 2" x 2" x 1/2" | H48: =IF(COUNT(H15,H32)=2,SUM(H15,H32),"Input needed") -> 24 | I48: =IF(COUNT(I15,I32)=2,SUM(I15,I32),"Input needed") -> 264 | J48: =IF(COUNT(J15,J32)=2,SUM(J15,J32),"Input needed") -> 792
B49: ='Edit Inputs'!B19 -> 81081 | C49: ='Edit Inputs'!C19 -> Ball valve | D49: ='Edit Inputs'!D19 -> SS | E49: ='Edit Inputs'!E19 -> 1/2" | H49: =IF(COUNT(H16,H33)=2,SUM(H16,H33),"Input needed") -> 16 | I49: =IF(COUNT(I16,I33)=2,SUM(I16,I33),"Input needed") -> 176 | J49: =IF(COUNT(J16,J33)=2,SUM(J16,J33),"Input needed") -> 528
B50: ='Edit Inputs'!B20 -> 80580 | C50: ='Edit Inputs'!C20 -> Press tee | D50: ='Edit Inputs'!D20 -> SS | E50: ='Edit Inputs'!E20 -> 1/2" | H50: =IF(COUNT(H17,H34)=2,SUM(H17,H34),"Input needed") -> 16 | I50: =IF(COUNT(I17,I34)=2,SUM(I17,I34),"Input needed") -> 176 | J50: =IF(COUNT(J17,J34)=2,SUM(J17,J34),"Input needed") -> 528
B51: ='Edit Inputs'!B21 -> 79430 | C51: ='Edit Inputs'!C21 -> Bronze instrument adapter — uncut | D51: ='Edit Inputs'!D21 -> Bronze | E51: ='Edit Inputs'!E21 -> 1/2" | H51: =IF(COUNT(H18,H35)=2,SUM(H18,H35),"Input needed") -> 40 | I51: =IF(COUNT(I18,I35)=2,SUM(I18,I35),"Input needed") -> 440 | J51: =IF(COUNT(J18,J35)=2,SUM(J18,J35),"Input needed") -> 1320
B52: TOTAL PART PIECES | H52: =IF(COUNT(H42,H43,H44,H45,H46,H47,H48,H49,H50,H51)=10,SUM(H42,H43,H44,H45,H46,H47,H48,H49,H50,H51),"Input needed") -> 176 | I52: =IF(COUNT(I42,I43,I44,I45,I46,I47,I48,I49,I50,I51)=10,SUM(I42,I43,I44,I45,I46,I47,I48,I49,I50,I51),"Input needed") -> 1936 | J52: =IF(COUNT(J42,J43,J44,J45,J46,J47,J48,J49,J50,J51)=10,SUM(J42,J43,J44,J45,J46,J47,J48,J49,J50,J51),"Input needed") -> 5808
B55: All tube cuts — including tube inside weld parts
B56: Stock part number | C56: Material | D56: Size | E56: Cut length | F56: Per Supply | G56: Per Return | H56: Pod pieces | I56: Hall pieces | J56: Horizon pieces
B57: ='Edit Inputs'!B26 -> 82000 | C57: ='Edit Inputs'!D26 -> SS | D57: ='Edit Inputs'!E26 -> 1/2" | E57: ='Edit Inputs'!F26 -> 1 3/4" | F57: =IF(ISNUMBER('Edit Inputs'!G26),'Edit Inputs'!G26,"Input needed") -> 2 | G57: =IF(ISNUMBER('Edit Inputs'!H26),'Edit Inputs'!H26,"Input needed") -> 2 | H57: =IF(COUNT($F57,$G57,'Edit Inputs'!C$6,'Edit Inputs'!C$7)=4,$F57*'Edit Inputs'!C$6+$G57*'Edit Inputs'!C$7,"Input needed") -> 32 | I57: =IF(COUNT($F57,$G57,'Edit Inputs'!D$6,'Edit Inputs'!D$7)=4,$F57*'Edit Inputs'!D$6+$G57*'Edit Inputs'!D$7,"Input needed") -> 352 | J57: =IF(COUNT($F57,$G57,'Edit Inputs'!E$6,'Edit Inputs'!E$7)=4,$F57*'Edit Inputs'!E$6+$G57*'Edit Inputs'!E$7,"Input needed") -> 1056
B58: ='Edit Inputs'!B27 -> 82025 | C58: ='Edit Inputs'!D27 -> SS | D58: ='Edit Inputs'!E27 -> 2" | E58: ='Edit Inputs'!F27 -> 1 5/8" | F58: =IF(ISNUMBER('Edit Inputs'!G27),'Edit Inputs'!G27,"Input needed") -> 1 | G58: =IF(ISNUMBER('Edit Inputs'!H27),'Edit Inputs'!H27,"Input needed") -> 2 | H58: =IF(COUNT($F58,$G58,'Edit Inputs'!C$6,'Edit Inputs'!C$7)=4,$F58*'Edit Inputs'!C$6+$G58*'Edit Inputs'!C$7,"Input needed") -> 24 | I58: =IF(COUNT($F58,$G58,'Edit Inputs'!D$6,'Edit Inputs'!D$7)=4,$F58*'Edit Inputs'!D$6+$G58*'Edit Inputs'!D$7,"Input needed") -> 264 | J58: =IF(COUNT($F58,$G58,'Edit Inputs'!E$6,'Edit Inputs'!E$7)=4,$F58*'Edit Inputs'!E$6+$G58*'Edit Inputs'!E$7,"Input needed") -> 792
B59: ='Edit Inputs'!B28 -> 82025 | C59: ='Edit Inputs'!D28 -> SS | D59: ='Edit Inputs'!E28 -> 2" | E59: ='Edit Inputs'!F28 -> 3 7/8" | F59: =IF(ISNUMBER('Edit Inputs'!G28),'Edit Inputs'!G28,"Input needed") -> 1 | G59: =IF(ISNUMBER('Edit Inputs'!H28),'Edit Inputs'!H28,"Input needed") -> 1 | H59: =IF(COUNT($F59,$G59,'Edit Inputs'!C$6,'Edit Inputs'!C$7)=4,$F59*'Edit Inputs'!C$6+$G59*'Edit Inputs'!C$7,"Input needed") -> 16 | I59: =IF(COUNT($F59,$G59,'Edit Inputs'!D$6,'Edit Inputs'!D$7)=4,$F59*'Edit Inputs'!D$6+$G59*'Edit Inputs'!D$7,"Input needed") -> 176 | J59: =IF(COUNT($F59,$G59,'Edit Inputs'!E$6,'Edit Inputs'!E$7)=4,$F59*'Edit Inputs'!E$6+$G59*'Edit Inputs'!E$7,"Input needed") -> 528
B60: ='Edit Inputs'!B29 -> 82025* | C60: ='Edit Inputs'!D29 -> SS | D60: ='Edit Inputs'!E29 -> 2" | E60: ='Edit Inputs'!F29 -> 6 7/8" | F60: =IF(ISNUMBER('Edit Inputs'!G29),'Edit Inputs'!G29,"Input needed") -> 1 | G60: =IF(ISNUMBER('Edit Inputs'!H29),'Edit Inputs'!H29,"Input needed") -> 0 | H60: =IF(COUNT($F60,$G60,'Edit Inputs'!C$6,'Edit Inputs'!C$7)=4,$F60*'Edit Inputs'!C$6+$G60*'Edit Inputs'!C$7,"Input needed") -> 8 | I60: =IF(COUNT($F60,$G60,'Edit Inputs'!D$6,'Edit Inputs'!D$7)=4,$F60*'Edit Inputs'!D$6+$G60*'Edit Inputs'!D$7,"Input needed") -> 88 | J60: =IF(COUNT($F60,$G60,'Edit Inputs'!E$6,'Edit Inputs'!E$7)=4,$F60*'Edit Inputs'!E$6+$G60*'Edit Inputs'!E$7,"Input needed") -> 264
B61: ='Edit Inputs'!B30 -> 82025 | C61: ='Edit Inputs'!D30 -> SS | D61: ='Edit Inputs'!E30 -> 2" | E61: ='Edit Inputs'!F30 -> 9 1/8" | F61: =IF(ISNUMBER('Edit Inputs'!G30),'Edit Inputs'!G30,"Input needed") -> 0 | G61: =IF(ISNUMBER('Edit Inputs'!H30),'Edit Inputs'!H30,"Input needed") -> 1 | H61: =IF(COUNT($F61,$G61,'Edit Inputs'!C$6,'Edit Inputs'!C$7)=4,$F61*'Edit Inputs'!C$6+$G61*'Edit Inputs'!C$7,"Input needed") -> 8 | I61: =IF(COUNT($F61,$G61,'Edit Inputs'!D$6,'Edit Inputs'!D$7)=4,$F61*'Edit Inputs'!D$6+$G61*'Edit Inputs'!D$7,"Input needed") -> 88 | J61: =IF(COUNT($F61,$G61,'Edit Inputs'!E$6,'Edit Inputs'!E$7)=4,$F61*'Edit Inputs'!E$6+$G61*'Edit Inputs'!E$7,"Input needed") -> 264
B62: ='Edit Inputs'!B31 -> 82025 | C62: ='Edit Inputs'!D31 -> SS | D62: ='Edit Inputs'!E31 -> 2" | E62: ='Edit Inputs'!F31 -> 14" | F62: =IF(ISNUMBER('Edit Inputs'!G31),'Edit Inputs'!G31,"Input needed") -> 1 | G62: =IF(ISNUMBER('Edit Inputs'!H31),'Edit Inputs'!H31,"Input needed") -> 1 | H62: =IF(COUNT($F62,$G62,'Edit Inputs'!C$6,'Edit Inputs'!C$7)=4,$F62*'Edit Inputs'!C$6+$G62*'Edit Inputs'!C$7,"Input needed") -> 16 | I62: =IF(COUNT($F62,$G62,'Edit Inputs'!D$6,'Edit Inputs'!D$7)=4,$F62*'Edit Inputs'!D$6+$G62*'Edit Inputs'!D$7,"Input needed") -> 176 | J62: =IF(COUNT($F62,$G62,'Edit Inputs'!E$6,'Edit Inputs'!E$7)=4,$F62*'Edit Inputs'!E$6+$G62*'Edit Inputs'!E$7,"Input needed") -> 528
B63: TOTAL TUBE CUT PIECES | F63: =IF(COUNT(F57,F58,F59,F60,F61,F62)=6,SUM(F57,F58,F59,F60,F61,F62),"Input needed") -> 6 | G63: =IF(COUNT(G57,G58,G59,G60,G61,G62)=6,SUM(G57,G58,G59,G60,G61,G62),"Input needed") -> 7 | H63: =IF(COUNT(H57,H58,H59,H60,H61,H62)=6,SUM(H57,H58,H59,H60,H61,H62),"Input needed") -> 104 | I63: =IF(COUNT(I57,I58,I59,I60,I61,I62)=6,SUM(I57,I58,I59,I60,I61,I62),"Input needed") -> 1144 | J63: =IF(COUNT(J57,J58,J59,J60,J61,J62)=6,SUM(J57,J58,J59,J60,J61,J62),"Input needed") -> 3432
B64: *82025 on the 6 7/8" cut is inferred. Counts include internal weld-part tubes once; do not add them to the part-piece total.
B67: Ferrules already inside WP2, WP3 and WP4
B68: Part number | C68: Part | D68: Material | E68: Size | H68: Pod | I68: Data hall | J68: Horizon
B69: ='Edit Inputs'!B36 -> TL14AM7-200PL | C69: ='Edit Inputs'!C36 -> Weld ferrule | D69: ='Edit Inputs'!D36 -> SS | E69: ='Edit Inputs'!E36 -> 2" | H69: =IF(COUNT(H42,H43,H44,'Edit Inputs'!F36)=4,SUM(H42,H43,H44)*'Edit Inputs'!F36,"Input needed") -> 48 | I69: =IF(COUNT(I42,I43,I44,'Edit Inputs'!F36)=4,SUM(I42,I43,I44)*'Edit Inputs'!F36,"Input needed") -> 528 | J69: =IF(COUNT(J42,J43,J44,'Edit Inputs'!F36)=4,SUM(J42,J43,J44)*'Edit Inputs'!F36,"Input needed") -> 1584
B70: Included materials only. Ferrules are already contained in the weld parts above.

Sheet Edit Inputs
B2: Edit quantities and scope
B3: Yellow cells are editable counts. The workbook is unprotected. Keep gray/formula cells for automatic totals.
B5: Drawing | C5: Pod assemblies | D5: Data hall assemblies | E5: Horizon assemblies
B6: Supply | C6: 8 | D6: 88 | E6: 264 | J6: pp. 1–2: each 8 / 88 / 264. Independent scope counts.
B7: Return | C7: 8 | D7: 88 | E7: 264
B10: Parts per one complete drawing
B11: Part number | C11: Part | D11: Material | E11: Size | F11: Supply qty | G11: Return qty
B12: WP2 | C12: Weld Part 2 | D12: SS | E12: 2" | F12: 1 | G12: 2 | J12: pp. 3, 6, 7 and 9. Layout usage 1 Supply / 2 Return; p. 9 quantity block conflicts.
B13: WP3 | C13: Weld Part 3 | D13: SS | E13: 2" | F13: 1 | G13: 1 | J13: pp. 1–2 and 10: one per Supply and one per Return.
B14: WP4 | C14: Weld Part 4 | D14: SS | E14: 2" | F14: 0 | G14: 1 | J14: pp. 2, 8 and 11: one per Return.
B15: 80425 | C15: 90° elbow | D15: SS | E15: 2" | F15: 1 | G15: 1 | J15: p. 3 item 2; p. 8 item 2. Original per drawing: 1 / 1.
B16: 80930 | C16: Threaded-branch tee | D16: SS | E16: 2" x 2" x 3/4" FPT | F16: 1 | G16: 0 | J16: p. 4 item 1. Original per drawing: 1 / 0. Optional 80920 not selected.
B17: Custom — no PN | C17: Reducing bushing | D17: Not stated | E17: 3/4" MPT x 1/2" FPT | F17: 1 | G17: 0 | J17: p. 4 item 2. Original per drawing: 1 / 0. Custom; no manufacturer PN given.
B18: 80720 | C18: Reducing tee | D18: SS | E18: 2" x 2" x 1/2" | F18: 1 | G18: 2 | J18: p. 5 item 1; p. 6 item 1; p. 7 item 1. Original per drawing: 1 / 2.
B19: 81081 | C19: Ball valve | D19: SS | E19: 1/2" | F19: 1 | G19: 1 | J19: pp. 5–6 item 3. Original per drawing: 1 / 1.
B20: 80580 | C20: Press tee | D20: SS | E20: 1/2" | F20: 1 | G20: 1 | J20: pp. 5–6 item 4. Original per drawing: 1 / 1.
B21: 79430 | C21: Bronze instrument adapter — uncut | D21: Bronze | E21: 1/2" | F21: 2 | G21: 3 | J21: pp. 5–7 allow 79430. User-selected uncut bronze replaces 80126. Effective: 2 / 3.
B24: Tube cuts per one complete drawing
B25: Stock part number | C25: Use | D25: Material | E25: Size | F25: Cut length | G25: Supply qty | H25: Return qty
B26: 82000 | C26: Small tubes | D26: SS | E26: 1/2" | F26: 1 3/4" | G26: 2 | H26: 2 | J26: pp. 5–6 item 2. Two separate tube cuts per drawing; no cut adapters.
B27: 82025 | C27: Inside WP2 | D27: SS | E27: 2" | F27: 1 5/8" | G27: =IF(ISNUMBER(F12),F12,"Input needed") -> 1 | H27: =IF(ISNUMBER(G12),G12,"Input needed") -> 2 | J27: p. 9 item 1. One tube per WP2. Quantity follows WP2 automatically.
B28: 82025 | C28: Separate tube | D28: SS | E28: 2" | F28: 3 7/8" | G28: 1 | H28: 1 | J28: p. 3 item 3; p. 8 item 3. One per drawing.
B29: 82025* | C29: Separate tube | D29: SS | E29: 2" | F29: 6 7/8" | G29: 1 | H29: 0 | J29: p. 1 cut callout. Stock PN inferred from matching 2" tube, not printed on this callout.
B30: 82025 | C30: Inside WP4 | D30: SS | E30: 2" | F30: 9 1/8" | G30: =IF(ISNUMBER(F14),F14,"Input needed") -> 0 | H30: =IF(ISNUMBER(G14),G14,"Input needed") -> 1 | J30: p. 11 item 1. One tube per WP4. Quantity follows WP4 automatically.
B31: 82025 | C31: Inside WP3 | D31: SS | E31: 2" | F31: 14" | G31: =IF(ISNUMBER(F13),F13,"Input needed") -> 1 | H31: =IF(ISNUMBER(G13),G13,"Input needed") -> 1 | J31: p. 10 item 1. One tube per WP3. Quantity follows WP3 automatically.
B34: Included weld-part material
B35: Part number | C35: Part | D35: Material | E35: Size | F35: Qty / weld part
B36: TL14AM7-200PL | C36: Weld ferrule | D36: SS | E36: 2" | F36: 1 | J36: pp. 9–11 item 2: one ferrule per weld part, already included.
B39: Drawing notes
B40: Source: TW GPU DROPS COMPLETE - REV 0 9.29.26.pdf, pages 1–11.
B41: WP2: p. 9 prints 8 / 88 / 264. Assembly usage requires 24 / 264 / 792. This draft uses assembly usage; confirm the mismatch.
B42: Bronze 79430 is used uncut at all five adapter positions per Supply + Return pair, following your earlier instruction.
B43: Supply uses 80930 plus the custom reducing bushing. The optional 80920 replacement is not included.
B44: 82025* on the 6 7/8" cut is inferred, not directly stated. All pipe quantities are cut pieces, not stock lengths.
B45: The Return 9 1/8" cut is inside WP4 and is counted once. Weld operations are not purchased parts.
B46: WP2 / WP3 / WP4 are local fabricated-part labels. Ferrules and their internal tube cuts must not be added to weld-part counts.
B47: Edit existing quantities and scope counts in yellow. Adding new part rows requires extending the totals and formula references.
